BEGIN:VCALENDAR
VERSION:2.0
PRODID:-//Ela Events - ECPv6.9.0//NONSGML v1.0//EN
CALSCALE:GREGORIAN
METHOD:PUBLISH
X-ORIGINAL-URL:https://elaevents.com
X-WR-CALDESC:Events for Ela Events
REFRESH-INTERVAL;VALUE=DURATION:PT1H
X-Robots-Tag:noindex
X-PUBLISHED-TTL:PT1H
BEGIN:VTIMEZONE
TZID:America/New_York
BEGIN:DAYLIGHT
TZOFFSETFROM:-0500
TZOFFSETTO:-0400
TZNAME:EDT
DTSTART:20250309T070000
END:DAYLIGHT
BEGIN:STANDARD
TZOFFSETFROM:-0400
TZOFFSETTO:-0500
TZNAME:EST
DTSTART:20251102T060000
END:STANDARD
END:VTIMEZONE
BEGIN:VEVENT
DTSTART;TZID=America/New_York:20250104T220000
DTEND;TZID=America/New_York:20250105T030000
DTSTAMP:20260423T171816
CREATED:20241108T071928Z
LAST-MODIFIED:20241108T071928Z
UID:10000030-1736028000-1736046000@elaevents.com
SUMMARY:FREE ENTRY & DRINKS W/RSVP AT LYFEATL THIS SATURDAY
DESCRIPTION:THE #1 PARTY IN DOWNTOWN ATLANTA !\n\n\nEACH AND EVERY SATURDAY THE BEST PARTY IN ATLANTA \nFOR VIP SECTIONS W/ BOTTLE SERVICE TEXT “LYFE” TO 470.408.9038 FOR ANY SATURDAY \nFOOD & MORE IS AVAILABLE \nLIVE HIPHOP AND R&B DJ’S \nDOORS OPEN AT 10PM \nDON’T CLOSE UNTIL 3AM
URL:https://elaevents.com/event/free-entry-drinks-w-rsvp-at-lyfeatl-this-saturday-9/
LOCATION:Lyfe ATL\, 201 Courtland Street Northeast\, Atlanta\, GA 30303\, Atlanta\, GA\, 30303\, US
GEO:33.7599132;-84.3839809
X-APPLE-STRUCTURED-LOCATION;VALUE=URI;X-ADDRESS=Lyfe ATL 201 Courtland Street Northeast Atlanta GA 30303 Atlanta GA 30303 US;X-APPLE-RADIUS=500;X-TITLE=201 Courtland Street Northeast\, Atlanta\, GA 30303:geo:-84.3839809,33.7599132
END:VEVENT
BEGIN:VEVENT
DTSTART;TZID=America/New_York:20250105T220000
DTEND;TZID=America/New_York:20250106T030000
DTSTAMP:20260423T171816
CREATED:20241108T071928Z
LAST-MODIFIED:20241108T071928Z
UID:10000031-1736114400-1736132400@elaevents.com
SUMMARY:SOIREE SUNDAYS AT MELA LOUNGE (LADIES FREE ALL NIGHT)
DESCRIPTION:Come party with us at Mela Lounge every Sunday for Soiree Sundays – ladies get in free all night long!
URL:https://elaevents.com/event/soiree-sundays-at-mela-lounge-ladies-free-all-night-9/
LOCATION:Mela Bar & Lounge\, 1359 Clairmont Road\, Decatur\, GA 30033\, Decatur\, GA\, 30033\, US
GEO:33.7925418;-84.3049631
X-APPLE-STRUCTURED-LOCATION;VALUE=URI;X-ADDRESS=Mela Bar & Lounge 1359 Clairmont Road Decatur GA 30033 Decatur GA 30033 US;X-APPLE-RADIUS=500;X-TITLE=1359 Clairmont Road\, Decatur\, GA 30033:geo:-84.3049631,33.7925418
END:VEVENT
END:VCALENDAR